2.4384000000
0.0000000000
0.0000000000
-2.4384000000
274238.4511390000
5321253.8876439994
