2.4384000000
0.0000000000
0.0000000000
-2.4384000000
272612.6013830000
5279491.7877009995
