2.4384000000
0.0000000000
0.0000000000
-2.4384000000
291445.3137190000
5278889.7806150001
