2.4384000000
0.0000000000
0.0000000000
-2.4384000000
300861.0834760000
5278659.3458329998
