2.4384000000
0.0000000000
0.0000000000
-2.4384000000
272118.8710830000
5265692.1793780001
