2.4384000000
0.0000000000
0.0000000000
-2.4384000000
309896.2380290000
5264360.1335220002
