2.4384000000
0.0000000000
0.0000000000
-2.4384000000
328391.8432450000
5249889.7259339998
