2.4384000000
0.0000000000
0.0000000000
-2.4384000000
299461.8015020000
5236873.5720069995
