2.4384000000
0.0000000000
0.0000000000
-2.4384000000
328028.7102560000
5235993.0606769994
