2.4384000000
0.0000000000
0.0000000000
-2.4384000000
271101.1623010000
5223992.9894300001
