2.4384000000
0.0000000000
0.0000000000
-2.4384000000
348548.7793110000
5304938.4032680001
