2.4384000000
0.0000000000
0.0000000000
-2.4384000000
357962.6420940000
5304704.5068140002
