2.4384000000
0.0000000000
0.0000000000
-2.4384000000
357655.1849000000
5290830.0816190001
