2.4384000000
0.0000000000
0.0000000000
-2.4384000000
385593.1665600000
5290199.5669900002
