2.4384000000
0.0000000000
0.0000000000
-2.4384000000
404475.7340710000
5289854.4527739994
