2.4384000000
0.0000000000
0.0000000000
-2.4384000000
413884.8154510000
5289703.3646329995
