2.4384000000
0.0000000000
0.0000000000
-2.4384000000
385409.3940280000
5276271.1208779998
