2.4384000000
0.0000000000
0.0000000000
-2.4384000000
366360.4444940000
5262806.2703259997
