2.4384000000
0.0000000000
0.0000000000
-2.4384000000
375636.0276930000
5262651.9783999994
