2.4384000000
0.0000000000
0.0000000000
-2.4384000000
385182.1563280000
5262433.8653999995
