2.4384000000
0.0000000000
0.0000000000
-2.4384000000
394664.5313600000
5262312.3714189995
