2.4384000000
0.0000000000
0.0000000000
-2.4384000000
384807.3893860000
5248510.3138229996
