2.4384000000
0.0000000000
0.0000000000
-2.4384000000
346823.1799060000
5235494.9079740001
