2.4384000000
0.0000000000
0.0000000000
-2.4384000000
356266.4925790000
5235326.5334510002
