2.4384000000
0.0000000000
0.0000000000
-2.4384000000
365500.2793260000
5221086.9682089994
