10.1600000000
0.0000000000
0.0000000000
-10.1600000000
269277.5241070000
5267581.4032939998
